BEGIN:VCALENDAR
VERSION:2.0
PRODID:spatie/icalendar-generator
DESCRIPTION:Events from Family Memories
X-WR-CALDESC:Events from Family Memories
REFRESH-INTERVAL;VALUE=DURATION:PT1440M
X-PUBLISHED-TTL:PT1440M
BEGIN:VTIMEZONE
TZID:Etc/GMT+0
BEGIN:STANDARD
DTSTART:20230602T000000Z
TZOFFSETFROM:+0000
TZOFFSETTO:+0000
END:STANDARD
END:VTIMEZONE
BEGIN:VTIMEZONE
TZID:UTC
BEGIN:STANDARD
DTSTART:20250724T085443Z
TZOFFSETFROM:+0000
TZOFFSETTO:+0000
END:STANDARD
END:VTIMEZONE
BEGIN:VEVENT
UID:574-13
DTSTAMP:20260420T085443Z
SUMMARY:Merrick (Jim) Birthday
LOCATION:
ORGANIZER;CN=kanatol4@gmail.com:MAILTO:kanatol4@gmail.com
RRULE:FREQ=YEARLY;BYMONTH=02;BYDAY=27;UNTIL=20750227T000000Z
DTSTART;TZID=Etc/GMT+0;VALUE=DATE:20240227
DTEND;TZID=Etc/GMT+0;VALUE=DATE:20240228
X-ALT-DESC;FMTTYPE=TEXT/HTML:
CATEGORIES:Birthday
URL;VALUE=URI:https://memorieswithfamily.com/mc-events/merrick-jim-birthday
 /?mc_id=574
METHOD:PUBLISH
END:VEVENT
END:VCALENDAR